BEGIN:VCALENDAR
VERSION:2.0
PRODID:-//Plone.org//NONSGML plone.app.event//EN
X-WR-TIMEZONE:Europe/Madrid
BEGIN:VEVENT
SUMMARY:Esdeveniment de mostra 1
DTSTART;TZID=Europe/Madrid:20220307T080000
DTEND;TZID=Europe/Madrid:20620225T080000
DTSTAMP:20260420T212417Z
UID:542ee81af4564282b40d21446c2f1d50@d3m.upc.edu
CONTACT:Responsable esdeveniment\, adreca@noreply.com
CREATED:20220307T073952Z
LAST-MODIFIED:20220307T073953Z
LOCATION:Lloc de l'esdeveniment
URL:https://d3m.upc.edu/ca/esdeveniments/esdeveniment-de-mostra-1
END:VEVENT
BEGIN:VTIMEZONE
TZID:Europe/Madrid
X-LIC-LOCATION:Europe/Madrid
BEGIN:STANDARD
DTSTART:20211031T020000
TZNAME:CET
TZOFFSETFROM:+0200
TZOFFSETTO:+0100
END:STANDARD
BEGIN:STANDARD
DTSTART:20371025T020000
TZNAME:CET
TZOFFSETFROM:+0200
TZOFFSETTO:+0100
END:STANDARD
END:VTIMEZONE
END:VCALENDAR
