BEGIN:VCALENDAR
VERSION:2.0
PRODID:-//Plone.org//NONSGML plone.app.event//EN
X-WR-TIMEZONE:Europe/Madrid
BEGIN:VEVENT
SUMMARY:Esdeveniment de mostra 3
DTSTART;TZID=Europe/Madrid:20220307T080000
DTEND;TZID=Europe/Madrid:20620225T080000
DTSTAMP:20260424T204844Z
UID:355231e0a208416d932736d92ba1e701@d3m.upc.edu
CONTACT:Responsable esdeveniment\, adreca@noreply.com
CREATED:20220307T073953Z
LAST-MODIFIED:20220307T073953Z
LOCATION:Lloc de l'esdeveniment
URL:https://d3m.upc.edu/ca/esdeveniments/esdeveniment-de-mostra-3
END:VEVENT
BEGIN:VTIMEZONE
TZID:Europe/Madrid
X-LIC-LOCATION:Europe/Madrid
BEGIN:STANDARD
DTSTART:20211031T020000
TZNAME:CET
TZOFFSETFROM:+0200
TZOFFSETTO:+0100
END:STANDARD
BEGIN:STANDARD
DTSTART:20371025T020000
TZNAME:CET
TZOFFSETFROM:+0200
TZOFFSETTO:+0100
END:STANDARD
END:VTIMEZONE
END:VCALENDAR
